BEGIN:VCALENDAR
VERSION:2.0
PRODID:-//Outsiders Yamaha Racing - ECPv4.4.3//NONSGML v1.0//EN
CALSCALE:GREGORIAN
METHOD:PUBLISH
X-WR-CALNAME:Outsiders Yamaha Racing
X-ORIGINAL-URL:http://www.outsiders-yamaharacing.com
X-WR-CALDESC:Events for Outsiders Yamaha Racing
BEGIN:VEVENT
DTSTART;TZID=UTC+1:20170513T080000
DTEND;TZID=UTC+1:20170514T170000
DTSTAMP:20260420T212802
CREATED:20170215T111228Z
LAST-MODIFIED:20170215T162429Z
UID:1621-1494662400-1494781200@www.outsiders-yamaharacing.com
SUMMARY:CHAMPIONNAT DE FRANCE ENDURO 24MX 2017 - Gacé
DESCRIPTION:Deuxième étape du Championnat de France d'Enduro 24MX\nOrganisé par le Moto Club la Gacéenne à Gacé du 13 au 14 Mai 2017\n\n \n\n
URL:http://www.outsiders-yamaharacing.com/course/championnat-de-france-enduro-24mx-2017-gace/
LOCATION:61230
CATEGORIES:Championnat de France,Enduro France 24 MX,Marc Bourgeois,Team Outsiders Yamaha Racing
ATTACH;FMTTYPE=image/png:http://www.outsiders-yamaharacing.com/wp-content/uploads/2017/02/logo-CDFEnduro24MX-2017.png
END:VEVENT
END:VCALENDAR